Workbook

Sheet Background
A3: Purpose
A4: The framework workbook was an information-gathering and decision-support tool used to evaluate various cybersecurity frameworks. AIRA used it to determine which standards should be integrated into the 2026 Security Guidance for IIS document based on objective criteria like maturity, health care focus, and licensing.
A5: Status
A6: This is the final version of the environmental scan and evaluations for each document.
A7: Terminology for the Environmental Scan and Evaluation
A8: We introduce the term "Focal Document" in Column A of the main tab of the Excel spreadsheet. This is a generic term for the artifact under consideration. We use this term to be consistent with the Secure Controls Framework and due to the absence of a standard term for the variety of items being evaluated. In some cases, the Focal Document is a framework, a meta framework, a federal law, an agency regulation, a specific set of cybersecurity controls, and more.
A9: Where to Find Information
A10: • Environmental Scan and Evaluation (Main Tab): This is the primary dashboard. It contains the names, descriptions, official URLs, and the Calculated Score for each framework, aka "Focal Document."
A11: • Evaluation Criteria (Evaluation Criteria and Weights Tab): Defines what each scoring category means and the Weight (importance) assigned to it.
A12: • Change Log (Tab): Lists the history of this document.
A13: Understand the Weights
A14: • The final score is weighted. For example, a "5" in Risk Management Framework (Weight: 5) adds more to the total score than a "5" in Already in SCF? (Weight: 3).
A15: • Please review the Evaluation Criteria section to understand the logic behind the prioritization.

Sheet Enviromental Scan and Evaluatio
A5: Meta-Framework | B5: Abbreviation | C5: Authoring Organization | D5: Purpose | E5: Target Audience/Primary Use | F5: Last Update | G5: Version | H5: Comments | I5: Proposed Plan for Addressing This Framework, Act, Reg, etc. in the 2026 AIRA Guide | J5: URL1 | K5: URL2 | L5: (SCF Columns) | M5: # SCF Controls - Total (2026.1) | N5: # SCF Controls - Weighted '10' (2026.1) | O5: Current? ( <12m. old) | P5: Already in SCF? | Q5: Open Source? | R5: License Allows Free Use? | S5: Has Detailed, Actionable Controls? | T5: Maps to NIST CSF or 800-53/171/66? | U5: Risk Management Framework? | V5: Health Care Focused? | W5: Specific to IIS? | X5: Final Sore (Higher Is Better)
A6: Secure Controls Framework | B6: SCF | C6: SCF Council | D6: Risk Management Framework | E6: Organizations (especially medium–large) with multiple cybersecurity/privacy compliance obligations; cybersecurity, privacy, IT, GRC practitioners | F6: 2026 | G6: 2026.1 | H6: Selected option for the AIRA 2026 Security Guide document. Open source for most components. Portal and prepared documentation is pay-walled. | I6: Full integration and adoption in the guide, without customization of SCF materials. | J6: https://securecontrolsframework.com/ | K6: n/a | L6: Y - GJ, (excludes non-US) | M6: 1468 | N6: 163 | O6: Yes | P6: Yes | Q6: Yes | R6: Yes | S6: Yes | T6: Yes | U6: Yes | V6: Yes | W6: No | X6: ='Evaluation Criteria and Weights'!K16 -> 32
A7: HITRUST Common Security Framework | B7: HITRUST | C7: HITRUST Alliance | D7: Health care focused reporting framework with risk management and other industries added | E7: Organizations that create, access, store, or exchange sensitive or regulated data (e.g., health care organizations and their vendors) | F7: 2025 | H7: Restrictive licensing and use. Actionable information is pay-walled. | I7: Excluded from scope due to licensing restrictions, but some additional control sets may be integrated into SCF as part of this project | J7: https://hitrustalliance.net/hitrust-framework | K7: n/a | L7: Not permitted by HITRUST license | M7: n/a | N7: n/a | O7: Yes | P7: No | Q7: No | R7: No | S7: Yes | T7: Yes | U7: Yes | V7: Yes | W7: No | X7: ='Evaluation Criteria and Weights'!K17 -> 21
A8: Focal Document/ Authoritative Source | B8: Abbreviation | C8: Authoring Organization | D8: Purpose | E8: Target Audience/Primary Use | F8: Last Update | G8: Version | H8: Comments | I8: Proposed Plan for Addressing This Framework, Act, Reg, etc. in the 2026 AIRA Guide | J8: URL1 | K8: URL2 | L8: (SCF Columns) | M8: # SCF Controls - Total (2026.1) | N8: # SCF Controls - Weighted '10' (2026.1) | O8: Current? ( <12m. old) | P8: Already in SCF? | Q8: Open Source? | R8: License Allows Free Use? | S8: Has Detailed, Actionable Controls? | T8: Maps to NIST CSF or 800-53/171/66? | U8: Risk Management Framework? | V8: Health Care focused? | W8: Specific to IIS? | X8: Final Sore (Higher Is Better)
A9: GovRAMP | B9: GovRAMP (formerly StateRAMP) | C9: StateRAMP organization (a 501(c)(6) nonprofit, doing business as GovRAMP) | D9: Based on NIST 800-53 | E9: State and local governments, public sector entities, and cloud service providers seeking authorization to handle their data | F9: 2026 | G9: Rev5 | H9: Cloud-only hosting focus. | I9: Already integrated into SCF, no additional work needed. | J9: https://govramp.org/rev-5-templates-and-resources/ | K9: n/a | L9: AU to AZ | M9: 86 to 441 | N9: 21 to 80 | O9: Yes | P9: Yes | Q9: Yes | R9: Yes | S9: No | T9: Yes | U9: No | V9: No | W9: No | X9: ='Evaluation Criteria and Weights'!K19 -> 20
A10: FedRamp | B10: FedRamp | C10: US federal government; managed by the FedRAMP Program Management Office (PMO) within the US General Services Administration (GSA) | D10: Based on NIST 800-53 | E10: US federal agencies and cloud service providers (CSPs) that provide cloud services to those agencies | F10: 2023 | H10: Cloud-only hosting focus. | I10: Already integrated into SCF, no additional work needed. | J10: https://www.fedramp.gov/ | K10: n/a | L10: EQ to EP | M10: 383 to 561 | N10: 86 to 98 | O10: No | P10: Yes | Q10: Yes | R10: Yes | S10: No | T10: Yes | U10: No | V10: No | W10: No | X10: ='Evaluation Criteria and Weights'!K20 -> 15
A11: ISO/IEC 27001 | B11: ISO 27001 | C11: International Organization for Standardization (ISO) | D11: Very high-level cybersecurity framework | E11: The standard is intended for organizations that need to establish, implement, maintain, and continually improve an information security management system (ISMS) | F11: 2024 | H11: Very generic and high level. Not actionable. | I11: Already integrated into SCF, no additional work needed. | J11: https://www.iso.org/standard/27001 (paywall) | K11: n/a | L11: BI | M11: 51 | N11: 17 | O11: No | P11: Yes | Q11: No | R11: Yes | S11: No | T11: No | U11: Yes | V11: No | W11: No | X11: ='Evaluation Criteria and Weights'!K21 -> 10
A12: System and Organization Controls 2 | B12: SOC2 | C12: American Institute of Certified Public Accountants (AICPA) | D12: Reporting framework only | E12: SOC 2: Service organizations that provide services to user entities and their user auditors; SOC 3: General-use report for users who need assurance about controls but not the detailed SOC 2 report | F12: 2023 | H12: Reporting framework not a Risk Management Framework. For example, reports on an organization’s RMF. | I12: Already integrated into SCF, no additional work needed. | J12: https://www.aicpa-cima.com/resources/download/mapping-2017-trust-services-criteria-to-nist-800-53 | K12: https://www.aicpa-cima.com/topic/audit-assurance/audit-and-assurance-greater-than-soc-2 | L12: AI | M12: 412 | N12: 100 | O12: No | P12: Yes | Q12: No | R12: Yes | S12: No | T12: Yes | U12: No | V12: No | W12: No | X12: ='Evaluation Criteria and Weights'!K22 -> 11
A13: HIPAA Administrative Simplification Rule 2013 | B13: HIPAA Administrative Simplification Rule 2013 | C13: US Department of Health and Human Services (HHS), Office for Civil Rights (OCR) | D13: Federal act | E13: Covered entities and business associates as defined under HIPAA | F13: 2013 | I13: Already integrated into SCF, no additional work needed. | J13: https://www.hhs.gov/hipaa/for-professionals/privacy/laws-regulations/combined-regulation-text/index.html (combined text) | K13: n/a | L13: FA | M13: 170 | N13: 57 | O13: No | P13: Yes | Q13: Yes | R13: Yes | S13: No | T13: No | U13: No | V13: Yes | W13: No | X13: ='Evaluation Criteria and Weights'!K23 -> 16
A14: NIST 800-66 R2: Implementing the Health Insurance Portability and Accountability Act (HIPAA) Security Rule: A Cybersecurity Resource Guide | B14: NIST 800-66 R2 | C14: National Institute of Standards and Technology (NIST), US Department of Commerce | D14: Federal government standard for HIPAA Covered Entities published by NIST | E14: Regulated entities (i.e., HIPAA‑covered entities and business associates) | F14: 2024 | G14: R2 | I14: Already integrated into SCF, no additional work needed. | J14: https://csrc.nist.gov/pubs/sp/800/66/r2/final | K14: n/a | L14: EY | M14: 136 | N14: 53 | O14: No | P14: Yes | Q14: Yes | R14: Yes | S14: No | T14: Yes | U14: No | V14: Yes | W14: No | X14: ='Evaluation Criteria and Weights'!K24 -> 20
A15: NIST RMF 800‑37, Revision 2: NIST Special Publication 800-37 Revision 2 Risk Management Framework for Information Systems and Organizations A System Life Cycle Approach for Security and Privacy | B15: NIST RMF 800-37 | C15: National Institute of Standards and Technology (NIST), US Department of Commerce | D15: Federal government standard for IT systems published by NIST | E15: Organizations applying the NIST RMF to information systems and organizations, including senior leaders, executives, and system owners | F15: 2018 | G15: R2 | H15: Excellent high-level RMF guide. | I15: Already integrated into SCF, no additional work needed. | J15: https://nvlpubs.nist.gov/nistpubs/SpecialPublications/NIST.SP.800-37r2.pdf | K15: n/a | L15: BK | M15: 45 | N15: 18 | O15: No | P15: Yes | Q15: Yes | R15: Yes | S15: No | T15: Yes | U15: Yes | V15: No | W15: No | X15: ='Evaluation Criteria and Weights'!K25 -> 18
A16: Health Industry Cybersecurity Practices | B16: HICP | C16: US Department of Health and Human Services (HHS), in partnership with the Healthcare and Public Health (HPH) Sector Coordinating Council | D16: Alignment between private and public sector health care critical infrastructure | E16: Practical, voluntary cybersecurity practices to health care organizations | F16: 2023 | H16: National Critical Infrastructure alignment. Mapped in SCF 2025.4 and removed in SCF 2026.1 likely due to overlap with HHS CPG, and NIST 800-66. | I16: No longer included in SCF. | J16: https://405d.hhs.gov/cornerstone/hicp | K16: n/a | O16: No | P16: Yes | Q16: Yes | R16: Yes | S16: No | T16: Yes | U16: No | V16: Yes | W16: No | X16: ='Evaluation Criteria and Weights'!K26 -> 20
A17: Healthcare and Public Health Cybersecurity Framework Implementation Guide (HHS Administration for Preparedness and Strategic Response Healthcare and Public Health Sector Cybersecurity Framework Implementation Guide Version 2 March 2023) | B17: HPH CFIG | C17: Healthcare and Public Health Sector Coordinating Council (HPH SCC), often in collaboration with HHS | D17: Provides guidance for implementing a Risk Management Framework | E17: Those HPH sector organizations seeking to implement the NIST Cybersecurity Framework | F17: 2023 | H17: An implementation guide to using an RMF, it is not a RMF itself. | I17: Under consideration for integration into the Guidance document. | J17: https://aspr.hhs.gov/cip/hph-cybersecurity-framework-implementation-guide/Pages/default.aspx | K17: https://www.aspr.gov/sites/default/files/2026-05/HPH-Sector-CSF-Implementation-Guide-508.pdf | L17: n/a | M17: n/a | N17: n/a | O17: No | P17: No | Q17: Yes | R17: Yes | S17: No | T17: Yes | U17: No | V17: Yes | W17: No | X17: ='Evaluation Criteria and Weights'!K27 -> 17
A18: HHS Cybersecurity Performance Goals | B18: HHS CPG | C18: US Department of Health and Human Services (HHS) | D18: Establishes a high-level baseline for health care entities | E18: Those seeking voluntary cybersecurity performance goals to help improve cyber resilience in health care | F18: 2023 | H18: Subset of NIST 800-53. | I18: Under consideration for integration into the Guidance document. | J18: https://hhscyber.hhs.gov/documents/cybersecurity-performance-goals.pdf | K18: n/a | L18: n/a | M18: n/a | N18: n/a | O18: No | P18: No | Q18: Yes | R18: Yes | S18: No | T18: Yes | U18: No | V18: Yes | W18: No | X18: ='Evaluation Criteria and Weights'!K28 -> 17
A19: Enterprise Performance Life Cycle (EPLC) Compliance | B19: EPLC | C19: US Department of Health and Human Services (HHS) and CISA | D19: Full compliance lifecycle management | E19: Those seeking assistance to manage policy and framework documents as per HHS project lifecycles | F19: 2016 | H19: Focus is only the full software lifecycle. | I19: Under consideration for integration into the Guidance document. | J19: https://www.cisa.gov/resources-tools/services/enterprise-performance-life-cycle-eplc-compliance | K19: https://www.hhs.gov/about/agencies/asa/ocio/cybersecurity/enterprise-security-services-line-of-business/index.html | L19: n/a | M19: n/a | N19: n/a | O19: No | P19: No | Q19: Yes | R19: Yes | S19: No | T19: No | U19: No | V19: No | W19: No | X19: ='Evaluation Criteria and Weights'!K29 -> 8
A20: NIST SP 800-218 - Secure Software Development Framework (SSDF) Version 1.1 | B20: NIST 800-218 | C20: National Institute of Standards and Technology (NIST), US Department of Commerce | D20: Secure software development | E20: Software development organizations | F20: 2022 | G20: 1.1 | H20: Likely applicable to insure jurisdictionally developed and commercial IIS software are developed securely. | I20: Already integrated into SCF, no additional work needed. | J20: https://csrc.nist.gov/pubs/sp/800/218/final | L20: CX | M20: 58 | N20: 16 | O20: No | P20: Yes | Q20: Yes | R20: Yes | S20: No | T20: Yes | U20: No | V20: No | W20: No | X20: ='Evaluation Criteria and Weights'!K30 -> 15
A21: NIST SP 800-53: Security and Privacy Controls for Information Systems and Organizations | B21: NIST 800-53 | C21: National Institute of Standards and Technology (NIST), US Department of Commerce | D21: General list of controls at a mid-level of detail for most organizations seeking near-pervasive security | E21: General purpose | F21: 2020 | G21: R5 | H21: Most common standard worldwide. | I21: Already integrated into SCF, no additional work needed. | J21: https://csrc.nist.gov/pubs/sp/800/53/r5/upd1/final | L21: CA to CE, esp. CA | M21: 89 to 777 | N21: 7 to 105 | O21: No | P21: Yes | Q21: Yes | R21: Yes | S21: No | T21: Yes | U21: No | V21: No | W21: No | X21: ='Evaluation Criteria and Weights'!K31 -> 15
A22: CISA Cross-Sector Cybersecurity Performance Goals (CPG) | B22: CISA | C22: Cybersecurity and Infrastructure Security Agency | D22: This program lists near real-time updated recommended baseline practices, guidance, and federal agency directives and a list of known exploited vulnerabilities | E22: Critical infrastructure, especiallly federal agencies | F22: Constantly updated | H22: Designed to provide federal agencies and critical infrastructure near real-time guidance and assistance. | I22: Not a set of controls. This is an ongoing series of guidance documents. No work to be done for the Guidance. | J22: https://www.cisa.gov/ | L22: DY | M22: 126 | N22: 45 | O22: Yes | P22: Yes | Q22: Yes | R22: Yes | S22: Yes | T22: No | U22: No | V22: No | W22: No | X22: ='Evaluation Criteria and Weights'!K32 -> 20
A23: NIST Cybersecurity Framework (CSF) v2.0 | B23: NIST CSF | C23: National Institute of Standards and Technology (NIST), US Department of Commerce | D23: Defines NIST's approach to cybersecurity | E23: General purpose | F23: 2024 | G23: 2 | I23: Already integrated into SCF, no additional work needed. | J23: https://www.nist.gov/cyberframework | L23: CO | M23: 250 | N23: 64 | O23: No | P23: Yes | Q23: Yes | R23: Yes | S23: No | T23: No | U23: No | V23: No | W23: No | X23: ='Evaluation Criteria and Weights'!K33 -> 11
A24: Guide to Protecting the Confidentiality of Personally Identifiable Information (PII) | B24: NIST 800-122 | C24: National Institute of Standards and Technology (NIST), US Department of Commerce | D24: Practices regarding protection of PII | E24: All agencies and other organizations storing regulated PII | F24: 2010 | H24: Useful and detailed information about PII protection mechanisms. | I24: Not a set of controls. This is a guidance document. No work to be done for the Guidance. | J24: https://nvlpubs.nist.gov/nistpubs/Legacy/SP/nistspecialpublication800-122.pdf | O24: No | P24: No | Q24: Yes | R24: Yes | S24: No | T24: No | U24: No | V24: No | W24: No | X24: ='Evaluation Criteria and Weights'!K34 -> 8
A25: Application Container Security Guide | B25: NIST 800-190 | C25: National Institute of Standards and Technology (NIST), US Department of Commerce | D25: Recommendations for container cybersecurity (Docker, Virtual Machines, etc.) | E25: Software deployment organizations | F25: 2017 | H25: Non-control document that cites an applicable subset of NIST 800-53 container controls. | I25: Not a set of controls. This is a guidance document. No work to be done for the Guidance. | J25: https://csrc.nist.gov/pubs/sp/800/190/final | O25: No | P25: No | Q25: Yes | R25: Yes | S25: Yes | T25: Yes | U25: No | V25: No | W25: No | X25: ='Evaluation Criteria and Weights'!K35 -> 16
A26: Center for Internet Security Benchmarks | B26: CIS Benchmarks | C26: Center for Internet Security | D26: Pragmatic global standard for technical hardening of computers and related technologies | E26: CIS guides, test suites, benchmarks, and controls would be used by field IT staff to harden specific systems | F26: 2024 | G26: 8.1 | H26: Maps the CIS domains to NIST 800-53 controls. | I26: Already integrated into SCF, no additional work needed. | J26: https://www.cisecurity.org/controls/v8-1 | L26: AL to AO | M26: 104 to 234 | N26: 35 to 62 | O26: No | P26: Yes | Q26: No | R26: No | S26: Yes | T26: Yes | U26: No | V26: No | W26: No | X26: ='Evaluation Criteria and Weights'!K36 -> 11
A27: CSA Cloud Controls Matrix | B27: CSA CCM | C27: Cloud Security Alliance | D27: Meta Framework focused only on cloud cybersecurity controls | E27: Cloud-hosted applications | F27: 2026 | G27: 4.1 | H27: Maps to many frameworks. | I27: Already integrated into SCF, no additional work needed. | J27: https://cloudsecurityalliance.org/artifacts/cloud-controls-matrix-v4-1 | L27: AH,AI | M27: 334 | N27: 93 | O27: Yes | P27: Yes | Q27: Yes | R27: Yes | S27: Yes | T27: Yes | U27: No | V27: No | W27: No | X27: ='Evaluation Criteria and Weights'!K37 -> 24
A28: Cloud Service Provider Well-Architected Framework | C28: Federated across multiple cloud providers | D28: Provides cloud provider-specific best practices | E28: Cloud-hosted applications | H28: This is not a single standard or document. It's a series of documents and patterns by multiple cloud providers. | I28: Not a set of controls. This is a series of guidance documents. No work to be done for the Guidance. | J28: n/a | X28: ='Evaluation Criteria and Weights'!K38 -> 0
A29: OWASP Top 10 Most Critical Web Application Security Risks | B29: OWASP Top 10 | C29: OWASP Foundation | D29: To start the process of secure web application development for inexperienced organizations | E29: New web application developers; note that the "Top 10" list translates to about 130 SCF controls | F29: 2025 | G29: 2025 | H29: OWASP to NIST mapping is a community effort. OWASP sponsored the PyTM project. | I29: Already integrated into SCF, no additional work needed. | J29: https://www.owasp.org/index.php/Category:OWASP_Top_Ten_Project | K29: https://owasp.org/Top10/2025/ | L29: DA | M29: 139 | N29: 46 | O29: Yes | P29: Yes | Q29: Yes | R29: Yes | S29: Yes | T29: Yes | U29: No | V29: No | W29: No | X29: ='Evaluation Criteria and Weights'!K39 -> 24
A30: OTHERS - TO CONSIDER: 800-97 800-175A, 800-175B 800-205 800-92 800-121 800-61 800-128 800-34 800-102 800-89 800-177 800-63B 800-100 800-39 800-40 800-88 800-127 800-63B | C30: NIST | D30: These NIST standards were referenced in prior AIRA security documentation. They are valuable sources of information for various topics such as wireless communications, networking, and attribute management. | E30: Multiple | F30: Multiple | I30: Cite as reference materials.
A31: COMBINED: SOC2 + ISO + 800-37 + 800-218 + NIST CSF OWASP + CISA + HIPAA Admin Simpl. + Security Rule/ 800-66 + | C31: Various | D31: As suggested, an assessment was made of a combination of these standards combined as if they were a single control set/RMF. | E31: Multiple | F31: Multiple | H31: The score reaches parity with the SCF based on the established evaluation criteria. For this exercise we combined all of the above individual frameworks (except SCF and HITRUST) into a single row in this evaluation matrix. | I31: This could be an alternative to using SCF. A challenge remains of reconciling and combining the multiple frameworks. We will continue to focus on SCF for the Guidance document for these reasons. But if an organization does not want to adopt SCF, then combining each of the above standards is a viable, although difficult, approach. | O31: Yes | P31: Yes | Q31: Yes | R31: Yes | S31: Yes | T31: Yes | U31: Yes | V31: Yes | W31: No | X31: ='Evaluation Criteria and Weights'!K41 -> 32
A32: IIS-Specific Resources | B32: Abbreviation | C32: Authoring Organization | D32: Purpose | E32: Target Audience/Primary Use | F32: Last Update | G32: Version | H32: Comments | I32: Proposed Plan for Addressing This Framework, Act, Reg, etc. in the 2026 AIRA Guide | J32: URL1 | K32: URL2 | L32: (SCF Columns) | M32: # SCF Controls - Total (2026.1) | N32: # SCF Controls - Weighted '10' (2026.1) | O32: Current? ( <12m. old) | P32: Already in SCF? | Q32: Open Source? | R32: License Allows Free Use? | S32: Has Detailed, Actionable controls? | T32: Maps to NIST CSF or 800-53/171/66? | U32: Risk Management Framework? | V32: Health Care focused? | W32: Specific to IIS? | X32: Final Sore (Higher Is Better)
A33: CDC IIS Functional Standards | B33: CDC IIS Functional Standards | C33: US Centers for Disease Control and Prevention (CDC) | D33: IIS-specific high-level goals and requirements, including security | E33: State, local, and territorial immunization information systems programs and their implementers | F33: 2024 | H33: Good, high-level cybersecurity guidance. | I33: Will be integrated into 2026 AIRA Security Guidance document. May become a new SCF control set in the future. | J33: https://www.cdc.gov/iis/functional-standards/resource.html | K33: https://www.cdc.gov/iis/functional-standards/introduction.html | L33: n/a | M33: n/a | N33: n/a
A34: Business Continuity Planning for Immunization Information System Programs | B34: MIROW: Business Continuity Planning | C34: AIRA | D34: Helps IIS programs develop and implement business continuity plans and management systems in alignment with best practices | E34: State, local, and territorial immunization information systems programs and their implementers | F34: 2019 | H34: IIS-specific materials. Very useful and relevant. | I34: Cite as reference materials. | J34: https://repository.immregistries.org/resource/business-continuity-planning-for-immunization-information-system-programs/ | L34: n/a | M34: n/a | N34: n/a
A35: Confidentiality and Privacy Considerations for IIS | B35: AIRA Privacy Guide | C35: AIRA | D35: Assists IIS in meeting legal requirements for protecting the privacy of individuals and the confidentiality of information in IIS | E35: State, local, and territorial immunization information systems programs and their implementers | F35: 2016 | H35: IIS-specific materials. Very useful and relevant. | I35: Cite as reference materials. | J35: https://repository.immregistries.org/resource/aira-confidentiality-and-privacy-considerations-for-iis/ | L35: n/a | M35: n/a | N35: n/a
A36: Security Guidance Considerations for IIS | B36: AIRA Security Guide | C36: AIRA | D36: Provides guidance on industry standards and best practices for addressing common security concerns | E36: State, local, and territorial immunization information systems programs and their implementers | F36: 2017 | H36: Superseded by the current work project. | I36: Cite as reference materials. | L36: n/a | M36: n/a | N36: n/a
A37: Immunization Information System (IIS) Baseline Requirements Traceability Matrix (RTM) | B37: IIS RTM | C37: Public Health Informatics Institute | D37: Clarifies minimum expectations of IIS technology in support of IIS Functional Standards and programmatic and immunization stakeholder needs | E37: State, local, and territorial immunization information systems programs and their implementers | F37: 2025 | H37: Very good mid-level of detail cybersecurity guidance plus functional requirements for an IIS of which many have cybersecurity considerations. | I37: Will be integrated into 2026 AIRA Security Guidance document. May become a new SCF control set in the future. | J37: https://phii.org/what-we-do/iis-hub/iis-operations/requirements-2/ | L37: n/a | M37: n/a | N37: n/a
A40: This environmental scan was developed under a Cooperative Agreement between the American Immunization Registry Association (AIRA) and the Centers for Disease Control and Prevention (CDC), supplement award number 6 NH23IP922665-02-01.

Sheet Evaluation Criteria and Weights
A3: Evaluation Criteria | B3: Notes | C3: Weight (5 =high, 1=low)
A4: ='Enviromental Scan and Evaluatio'!O5 -> Current? ( <12m. old) | B4: Is this resource less than 12 months old? | C4: 5
A5: ='Enviromental Scan and Evaluatio'!P5 -> Already in SCF? | B5: Is this already mapped in the Secure Controls Framework? | C5: 3
A6: ='Enviromental Scan and Evaluatio'!Q5 -> Open Source? | B6: Is this resource open source? | C6: 4
A7: ='Enviromental Scan and Evaluatio'!R5 -> License Allows Free Use? | B7: Does this allow for free use? | C7: 4
A8: ='Enviromental Scan and Evaluatio'!S5 -> Has Detailed, Actionable Controls? | B8: Does this suggest detailed, actionable controls? | C8: 4
A9: ='Enviromental Scan and Evaluatio'!T5 -> Maps to NIST CSF or 800-53/171/66? | B9: Maps to a NIST artifact | C9: 4
A10: ='Enviromental Scan and Evaluatio'!U5 -> Risk Management Framework? | B10: Is this a true RMF? | C10: 3
A11: ='Enviromental Scan and Evaluatio'!V5 -> Health Care Focused? | B11: Is this focused on health care IT? | C11: 5
A12: ='Enviromental Scan and Evaluatio'!W5 -> Specific to IIS? | B12: Relevant to IIS? | C12: 5
A14: EVALUATION MATRIX
A15: ='Enviromental Scan and Evaluatio'!A5 -> Meta-Framework | B15: =A$4 -> Current? ( <12m. old) | C15: =A$5 -> Already in SCF? | D15: =A$6 -> Open Source? | E15: =A$7 -> License Allows Free Use? | F15: =A$8 -> Has Detailed, Actionable Controls? | G15: =A$9 -> Maps to NIST CSF or 800-53/171/66? | H15: =A$10 -> Risk Management Framework? | I15: =A$11 -> Health Care Focused? | J15: =A$12 -> Specific to IIS? | K15: Score
A16: ='Enviromental Scan and Evaluatio'!A6 -> Secure Controls Framework | B16: =IF('Enviromental Scan and Evaluatio'!O6="Yes",$C$4,0) -> 5 | C16: =IF('Enviromental Scan and Evaluatio'!P6="Yes",$C$5,0) -> 3 | D16: =IF('Enviromental Scan and Evaluatio'!Q6="Yes",$C$6,0) -> 4 | E16: =IF('Enviromental Scan and Evaluatio'!R6="Yes",$C$7,0) -> 4 | F16: =IF('Enviromental Scan and Evaluatio'!S6="Yes",$C$8,0) -> 4 | G16: =IF('Enviromental Scan and Evaluatio'!T6="Yes",$C$9,0) -> 4 | H16: =IF('Enviromental Scan and Evaluatio'!U6="Yes",$C$10,0) -> 3 | I16: =IF('Enviromental Scan and Evaluatio'!V6="Yes",$C$11,0) -> 5 | J16: =IF('Enviromental Scan and Evaluatio'!W6="Yes",$C$11,0) -> 0 | K16: =SUM(B16:J16) -> 32
A17: ='Enviromental Scan and Evaluatio'!A7 -> HITRUST Common Security Framework | B17: =IF('Enviromental Scan and Evaluatio'!O7="Yes",$C$4,0) -> 5 | C17: =IF('Enviromental Scan and Evaluatio'!P7="Yes",$C$5,0) -> 0 | D17: =IF('Enviromental Scan and Evaluatio'!Q7="Yes",$C$6,0) -> 0 | E17: =IF('Enviromental Scan and Evaluatio'!R7="Yes",$C$7,0) -> 0 | F17: =IF('Enviromental Scan and Evaluatio'!S7="Yes",$C$8,0) -> 4 | G17: =IF('Enviromental Scan and Evaluatio'!T7="Yes",$C$9,0) -> 4 | H17: =IF('Enviromental Scan and Evaluatio'!U7="Yes",$C$10,0) -> 3 | I17: =IF('Enviromental Scan and Evaluatio'!V7="Yes",$C$11,0) -> 5 | J17: =IF('Enviromental Scan and Evaluatio'!W7="Yes",$C$11,0) -> 0 | K17: =SUM(B17:J17) -> 21
A18: ='Enviromental Scan and Evaluatio'!A8 -> Focal Document/ Authoritative Source | B18: =A$4 -> Current? ( <12m. old) | C18: =A$5 -> Already in SCF? | D18: =A$6 -> Open Source? | E18: =A$7 -> License Allows Free Use? | F18: =A$8 -> Has Detailed, Actionable Controls? | G18: =A$9 -> Maps to NIST CSF or 800-53/171/66? | H18: =A$10 -> Risk Management Framework? | I18: =A$11 -> Health Care Focused? | J18: =A$12 -> Specific to IIS? | K18: Score
A19: ='Enviromental Scan and Evaluatio'!A9 -> GovRAMP | B19: =IF('Enviromental Scan and Evaluatio'!O9="Yes",$C$4,0) -> 5 | C19: =IF('Enviromental Scan and Evaluatio'!P9="Yes",$C$5,0) -> 3 | D19: =IF('Enviromental Scan and Evaluatio'!Q9="Yes",$C$6,0) -> 4 | E19: =IF('Enviromental Scan and Evaluatio'!R9="Yes",$C$7,0) -> 4 | F19: =IF('Enviromental Scan and Evaluatio'!S9="Yes",$C$8,0) -> 0 | G19: =IF('Enviromental Scan and Evaluatio'!T9="Yes",$C$9,0) -> 4 | H19: =IF('Enviromental Scan and Evaluatio'!U9="Yes",$C$10,0) -> 0 | I19: =IF('Enviromental Scan and Evaluatio'!V9="Yes",$C$11,0) -> 0 | J19: =IF('Enviromental Scan and Evaluatio'!W9="Yes",$C$11,0) -> 0 | K19: =SUM(B19:J19) -> 20
A20: ='Enviromental Scan and Evaluatio'!A10 -> FedRamp | B20: =IF('Enviromental Scan and Evaluatio'!O10="Yes",$C$4,0) -> 0 | C20: =IF('Enviromental Scan and Evaluatio'!P10="Yes",$C$5,0) -> 3 | D20: =IF('Enviromental Scan and Evaluatio'!Q10="Yes",$C$6,0) -> 4 | E20: =IF('Enviromental Scan and Evaluatio'!R10="Yes",$C$7,0) -> 4 | F20: =IF('Enviromental Scan and Evaluatio'!S10="Yes",$C$8,0) -> 0 | G20: =IF('Enviromental Scan and Evaluatio'!T10="Yes",$C$9,0) -> 4 | H20: =IF('Enviromental Scan and Evaluatio'!U10="Yes",$C$10,0) -> 0 | I20: =IF('Enviromental Scan and Evaluatio'!V10="Yes",$C$11,0) -> 0 | J20: =IF('Enviromental Scan and Evaluatio'!W10="Yes",$C$11,0) -> 0 | K20: =SUM(B20:J20) -> 15
A21: ='Enviromental Scan and Evaluatio'!A11 -> ISO/IEC 27001 | B21: =IF('Enviromental Scan and Evaluatio'!O11="Yes",$C$4,0) -> 0 | C21: =IF('Enviromental Scan and Evaluatio'!P11="Yes",$C$5,0) -> 3 | D21: =IF('Enviromental Scan and Evaluatio'!Q11="Yes",$C$6,0) -> 0 | E21: =IF('Enviromental Scan and Evaluatio'!R11="Yes",$C$7,0) -> 4 | F21: =IF('Enviromental Scan and Evaluatio'!S11="Yes",$C$8,0) -> 0 | G21: =IF('Enviromental Scan and Evaluatio'!T11="Yes",$C$9,0) -> 0 | H21: =IF('Enviromental Scan and Evaluatio'!U11="Yes",$C$10,0) -> 3 | I21: =IF('Enviromental Scan and Evaluatio'!V11="Yes",$C$11,0) -> 0 | J21: =IF('Enviromental Scan and Evaluatio'!W11="Yes",$C$11,0) -> 0 | K21: =SUM(B21:J21) -> 10
A22: ='Enviromental Scan and Evaluatio'!A12 -> System and Organization Controls 2 | B22: =IF('Enviromental Scan and Evaluatio'!O12="Yes",$C$4,0) -> 0 | C22: =IF('Enviromental Scan and Evaluatio'!P12="Yes",$C$5,0) -> 3 | D22: =IF('Enviromental Scan and Evaluatio'!Q12="Yes",$C$6,0) -> 0 | E22: =IF('Enviromental Scan and Evaluatio'!R12="Yes",$C$7,0) -> 4 | F22: =IF('Enviromental Scan and Evaluatio'!S12="Yes",$C$8,0) -> 0 | G22: =IF('Enviromental Scan and Evaluatio'!T12="Yes",$C$9,0) -> 4 | H22: =IF('Enviromental Scan and Evaluatio'!U12="Yes",$C$10,0) -> 0 | I22: =IF('Enviromental Scan and Evaluatio'!V12="Yes",$C$11,0) -> 0 | J22: =IF('Enviromental Scan and Evaluatio'!W12="Yes",$C$11,0) -> 0 | K22: =SUM(B22:J22) -> 11
A23: ='Enviromental Scan and Evaluatio'!A13 -> HIPAA Administrative Simplification Rule 2013 | B23: =IF('Enviromental Scan and Evaluatio'!O13="Yes",$C$4,0) -> 0 | C23: =IF('Enviromental Scan and Evaluatio'!P13="Yes",$C$5,0) -> 3 | D23: =IF('Enviromental Scan and Evaluatio'!Q13="Yes",$C$6,0) -> 4 | E23: =IF('Enviromental Scan and Evaluatio'!R13="Yes",$C$7,0) -> 4 | F23: =IF('Enviromental Scan and Evaluatio'!S13="Yes",$C$8,0) -> 0 | G23: =IF('Enviromental Scan and Evaluatio'!T13="Yes",$C$9,0) -> 0 | H23: =IF('Enviromental Scan and Evaluatio'!U13="Yes",$C$10,0) -> 0 | I23: =IF('Enviromental Scan and Evaluatio'!V13="Yes",$C$11,0) -> 5 | J23: =IF('Enviromental Scan and Evaluatio'!W13="Yes",$C$11,0) -> 0 | K23: =SUM(B23:J23) -> 16
A24: ='Enviromental Scan and Evaluatio'!A14 -> NIST 800-66 R2: Implementing the Health Insurance Portability and Accountability Act (HIPAA) Security Rule: A Cybersecurity Resource Guide | B24: =IF('Enviromental Scan and Evaluatio'!O14="Yes",$C$4,0) -> 0 | C24: =IF('Enviromental Scan and Evaluatio'!P14="Yes",$C$5,0) -> 3 | D24: =IF('Enviromental Scan and Evaluatio'!Q14="Yes",$C$6,0) -> 4 | E24: =IF('Enviromental Scan and Evaluatio'!R14="Yes",$C$7,0) -> 4 | F24: =IF('Enviromental Scan and Evaluatio'!S14="Yes",$C$8,0) -> 0 | G24: =IF('Enviromental Scan and Evaluatio'!T14="Yes",$C$9,0) -> 4 | H24: =IF('Enviromental Scan and Evaluatio'!U14="Yes",$C$10,0) -> 0 | I24: =IF('Enviromental Scan and Evaluatio'!V14="Yes",$C$11,0) -> 5 | J24: =IF('Enviromental Scan and Evaluatio'!W14="Yes",$C$11,0) -> 0 | K24: =SUM(B24:J24) -> 20
A25: ='Enviromental Scan and Evaluatio'!A15 -> NIST RMF 800‑37, Revision 2: NIST Special Publication 800-37 Revision 2 Risk Management Framework for Information Systems and Organizations A System Life Cycle Approach for Security and Privacy | B25: =IF('Enviromental Scan and Evaluatio'!O15="Yes",$C$4,0) -> 0 | C25: =IF('Enviromental Scan and Evaluatio'!P15="Yes",$C$5,0) -> 3 | D25: =IF('Enviromental Scan and Evaluatio'!Q15="Yes",$C$6,0) -> 4 | E25: =IF('Enviromental Scan and Evaluatio'!R15="Yes",$C$7,0) -> 4 | F25: =IF('Enviromental Scan and Evaluatio'!S15="Yes",$C$8,0) -> 0 | G25: =IF('Enviromental Scan and Evaluatio'!T15="Yes",$C$9,0) -> 4 | H25: =IF('Enviromental Scan and Evaluatio'!U15="Yes",$C$10,0) -> 3 | I25: =IF('Enviromental Scan and Evaluatio'!V15="Yes",$C$11,0) -> 0 | J25: =IF('Enviromental Scan and Evaluatio'!W15="Yes",$C$11,0) -> 0 | K25: =SUM(B25:J25) -> 18
A26: ='Enviromental Scan and Evaluatio'!A16 -> Health Industry Cybersecurity Practices | B26: =IF('Enviromental Scan and Evaluatio'!O16="Yes",$C$4,0) -> 0 | C26: =IF('Enviromental Scan and Evaluatio'!P16="Yes",$C$5,0) -> 3 | D26: =IF('Enviromental Scan and Evaluatio'!Q16="Yes",$C$6,0) -> 4 | E26: =IF('Enviromental Scan and Evaluatio'!R16="Yes",$C$7,0) -> 4 | F26: =IF('Enviromental Scan and Evaluatio'!S16="Yes",$C$8,0) -> 0 | G26: =IF('Enviromental Scan and Evaluatio'!T16="Yes",$C$9,0) -> 4 | H26: =IF('Enviromental Scan and Evaluatio'!U16="Yes",$C$10,0) -> 0 | I26: =IF('Enviromental Scan and Evaluatio'!V16="Yes",$C$11,0) -> 5 | J26: =IF('Enviromental Scan and Evaluatio'!W16="Yes",$C$11,0) -> 0 | K26: =SUM(B26:J26) -> 20
A27: ='Enviromental Scan and Evaluatio'!A17 -> Healthcare and Public Health Cybersecurity Framework Implementation Guide (HHS Administration for Preparedness and Strategic Response Healthcare and Public Health Sector Cybersecurity Framework Implementation Guide Version 2 March 2023) | B27: =IF('Enviromental Scan and Evaluatio'!O17="Yes",$C$4,0) -> 0 | C27: =IF('Enviromental Scan and Evaluatio'!P17="Yes",$C$5,0) -> 0 | D27: =IF('Enviromental Scan and Evaluatio'!Q17="Yes",$C$6,0) -> 4 | E27: =IF('Enviromental Scan and Evaluatio'!R17="Yes",$C$7,0) -> 4 | F27: =IF('Enviromental Scan and Evaluatio'!S17="Yes",$C$8,0) -> 0 | G27: =IF('Enviromental Scan and Evaluatio'!T17="Yes",$C$9,0) -> 4 | H27: =IF('Enviromental Scan and Evaluatio'!U17="Yes",$C$10,0) -> 0 | I27: =IF('Enviromental Scan and Evaluatio'!V17="Yes",$C$11,0) -> 5 | J27: =IF('Enviromental Scan and Evaluatio'!W17="Yes",$C$11,0) -> 0 | K27: =SUM(B27:J27) -> 17
A28: ='Enviromental Scan and Evaluatio'!A18 -> HHS Cybersecurity Performance Goals | B28: =IF('Enviromental Scan and Evaluatio'!O18="Yes",$C$4,0) -> 0 | C28: =IF('Enviromental Scan and Evaluatio'!P18="Yes",$C$5,0) -> 0 | D28: =IF('Enviromental Scan and Evaluatio'!Q18="Yes",$C$6,0) -> 4 | E28: =IF('Enviromental Scan and Evaluatio'!R18="Yes",$C$7,0) -> 4 | F28: =IF('Enviromental Scan and Evaluatio'!S18="Yes",$C$8,0) -> 0 | G28: =IF('Enviromental Scan and Evaluatio'!T18="Yes",$C$9,0) -> 4 | H28: =IF('Enviromental Scan and Evaluatio'!U18="Yes",$C$10,0) -> 0 | I28: =IF('Enviromental Scan and Evaluatio'!V18="Yes",$C$11,0) -> 5 | J28: =IF('Enviromental Scan and Evaluatio'!W18="Yes",$C$11,0) -> 0 | K28: =SUM(B28:J28) -> 17
A29: ='Enviromental Scan and Evaluatio'!A19 -> Enterprise Performance Life Cycle (EPLC) Compliance | B29: =IF('Enviromental Scan and Evaluatio'!O19="Yes",$C$4,0) -> 0 | C29: =IF('Enviromental Scan and Evaluatio'!P19="Yes",$C$5,0) -> 0 | D29: =IF('Enviromental Scan and Evaluatio'!Q19="Yes",$C$6,0) -> 4 | E29: =IF('Enviromental Scan and Evaluatio'!R19="Yes",$C$7,0) -> 4 | F29: =IF('Enviromental Scan and Evaluatio'!S19="Yes",$C$8,0) -> 0 | G29: =IF('Enviromental Scan and Evaluatio'!T19="Yes",$C$9,0) -> 0 | H29: =IF('Enviromental Scan and Evaluatio'!U19="Yes",$C$10,0) -> 0 | I29: =IF('Enviromental Scan and Evaluatio'!V19="Yes",$C$11,0) -> 0 | J29: =IF('Enviromental Scan and Evaluatio'!W19="Yes",$C$11,0) -> 0 | K29: =SUM(B29:J29) -> 8
A30: ='Enviromental Scan and Evaluatio'!A20 -> NIST SP 800-218 - Secure Software Development Framework (SSDF) Version 1.1 | B30: =IF('Enviromental Scan and Evaluatio'!O20="Yes",$C$4,0) -> 0 | C30: =IF('Enviromental Scan and Evaluatio'!P20="Yes",$C$5,0) -> 3 | D30: =IF('Enviromental Scan and Evaluatio'!Q20="Yes",$C$6,0) -> 4 | E30: =IF('Enviromental Scan and Evaluatio'!R20="Yes",$C$7,0) -> 4 | F30: =IF('Enviromental Scan and Evaluatio'!S20="Yes",$C$8,0) -> 0 | G30: =IF('Enviromental Scan and Evaluatio'!T20="Yes",$C$9,0) -> 4 | H30: =IF('Enviromental Scan and Evaluatio'!U20="Yes",$C$10,0) -> 0 | I30: =IF('Enviromental Scan and Evaluatio'!V20="Yes",$C$11,0) -> 0 | J30: =IF('Enviromental Scan and Evaluatio'!W20="Yes",$C$11,0) -> 0 | K30: =SUM(B30:J30) -> 15
... A41: ='Enviromental Scan and Evaluatio'!A31 -> COMBINED: SOC2 + ISO + 800-37 + 800-218 + NIST CSF OWASP + CISA + HIPAA Admin Simpl. + Security Rule/ 800-66 + | B41: =IF('Enviromental Scan and Evaluatio'!O31="Yes",$C$4,0) -> 5 | C41: =IF('Enviromental Scan and Evaluatio'!P31="Yes",$C$5,0) -> 3 | D41: =IF('Enviromental Scan and Evaluatio'!Q31="Yes",$C$6,0) -> 4 | E41: =IF('Enviromental Scan and Evaluatio'!R31="Yes",$C$7,0) -> 4 | F41: =IF('Enviromental Scan and Evaluatio'!S31="Yes",$C$8,0) -> 4 | G41: =IF('Enviromental Scan and Evaluatio'!T31="Yes",$C$9,0) -> 4 | H41: =IF('Enviromental Scan and Evaluatio'!U31="Yes",$C$10,0) -> 3 | I41: =IF('Enviromental Scan and Evaluatio'!V31="Yes",$C$11,0) -> 5 | J41: =IF('Enviromental Scan and Evaluatio'!W31="Yes",$C$11,0) -> 0 | K41: =SUM(B41:J41) -> 32
A42: ='Enviromental Scan and Evaluatio'!A32 -> IIS-Specific Resources | B42: =A$4 -> Current? ( <12m. old) | C42: =A$5 -> Already in SCF? | D42: =A$6 -> Open Source? | E42: =A$7 -> License Allows Free Use? | F42: =A$8 -> Has Detailed, Actionable Controls? | G42: =A$9 -> Maps to NIST CSF or 800-53/171/66? | H42: =A$10 -> Risk Management Framework? | I42: =A$11 -> Health Care Focused? | J42: =A$12 -> Specific to IIS? | K42: Score
A43: ='Enviromental Scan and Evaluatio'!A33 -> CDC IIS Functional Standards | B43: =IF('Enviromental Scan and Evaluatio'!O33="Yes",$C$4,0) -> 0 | C43: =IF('Enviromental Scan and Evaluatio'!P33="Yes",$C$5,0) -> 0 | D43: =IF('Enviromental Scan and Evaluatio'!Q33="Yes",$C$6,0) -> 0 | E43: =IF('Enviromental Scan and Evaluatio'!R33="Yes",$C$7,0) -> 0 | F43: =IF('Enviromental Scan and Evaluatio'!S33="Yes",$C$8,0) -> 0 | G43: =IF('Enviromental Scan and Evaluatio'!T33="Yes",$C$9,0) -> 0 | H43: =IF('Enviromental Scan and Evaluatio'!U33="Yes",$C$10,0) -> 0 | I43: =IF('Enviromental Scan and Evaluatio'!V33="Yes",$C$11,0) -> 0 | J43: =IF('Enviromental Scan and Evaluatio'!W33="Yes",$C$11,0) -> 0 | K43: =SUM(B43:I43) -> 0
A44: ='Enviromental Scan and Evaluatio'!A34 -> Business Continuity Planning for Immunization Information System Programs | B44: =IF('Enviromental Scan and Evaluatio'!O34="Yes",$C$4,0) -> 0 | C44: =IF('Enviromental Scan and Evaluatio'!P34="Yes",$C$5,0) -> 0 | D44: =IF('Enviromental Scan and Evaluatio'!Q34="Yes",$C$6,0) -> 0 | E44: =IF('Enviromental Scan and Evaluatio'!R34="Yes",$C$7,0) -> 0 | F44: =IF('Enviromental Scan and Evaluatio'!S34="Yes",$C$8,0) -> 0 | G44: =IF('Enviromental Scan and Evaluatio'!T34="Yes",$C$9,0) -> 0 | H44: =IF('Enviromental Scan and Evaluatio'!U34="Yes",$C$10,0) -> 0 | I44: =IF('Enviromental Scan and Evaluatio'!V34="Yes",$C$11,0) -> 0 | J44: =IF('Enviromental Scan and Evaluatio'!W34="Yes",$C$11,0) -> 0 | K44: =SUM(B44:I44) -> 0
A45: ='Enviromental Scan and Evaluatio'!A35 -> Confidentiality and Privacy Considerations for IIS | B45: =IF('Enviromental Scan and Evaluatio'!O35="Yes",$C$4,0) -> 0 | C45: =IF('Enviromental Scan and Evaluatio'!P35="Yes",$C$5,0) -> 0 | D45: =IF('Enviromental Scan and Evaluatio'!Q35="Yes",$C$6,0) -> 0 | E45: =IF('Enviromental Scan and Evaluatio'!R35="Yes",$C$7,0) -> 0 | F45: =IF('Enviromental Scan and Evaluatio'!S35="Yes",$C$8,0) -> 0 | G45: =IF('Enviromental Scan and Evaluatio'!T35="Yes",$C$9,0) -> 0 | H45: =IF('Enviromental Scan and Evaluatio'!U35="Yes",$C$10,0) -> 0 | I45: =IF('Enviromental Scan and Evaluatio'!V35="Yes",$C$11,0) -> 0 | J45: =IF('Enviromental Scan and Evaluatio'!W35="Yes",$C$11,0) -> 0 | K45: =SUM(B45:I45) -> 0
A46: ='Enviromental Scan and Evaluatio'!A36 -> Security Guidance Considerations for IIS | B46: =IF('Enviromental Scan and Evaluatio'!O36="Yes",$C$4,0) -> 0 | C46: =IF('Enviromental Scan and Evaluatio'!P36="Yes",$C$5,0) -> 0 | D46: =IF('Enviromental Scan and Evaluatio'!Q36="Yes",$C$6,0) -> 0 | E46: =IF('Enviromental Scan and Evaluatio'!R36="Yes",$C$7,0) -> 0 | F46: =IF('Enviromental Scan and Evaluatio'!S36="Yes",$C$8,0) -> 0 | G46: =IF('Enviromental Scan and Evaluatio'!T36="Yes",$C$9,0) -> 0 | H46: =IF('Enviromental Scan and Evaluatio'!U36="Yes",$C$10,0) -> 0 | I46: =IF('Enviromental Scan and Evaluatio'!V36="Yes",$C$11,0) -> 0 | J46: =IF('Enviromental Scan and Evaluatio'!W36="Yes",$C$11,0) -> 0 | K46: =SUM(B46:I46) -> 0
A47: ='Enviromental Scan and Evaluatio'!A37 -> Immunization Information System (IIS) Baseline Requirements Traceability Matrix (RTM) | B47: =IF('Enviromental Scan and Evaluatio'!O37="Yes",$C$4,0) -> 0 | C47: =IF('Enviromental Scan and Evaluatio'!P37="Yes",$C$5,0) -> 0 | D47: =IF('Enviromental Scan and Evaluatio'!Q37="Yes",$C$6,0) -> 0 | E47: =IF('Enviromental Scan and Evaluatio'!R37="Yes",$C$7,0) -> 0 | F47: =IF('Enviromental Scan and Evaluatio'!S37="Yes",$C$8,0) -> 0 | G47: =IF('Enviromental Scan and Evaluatio'!T37="Yes",$C$9,0) -> 0 | H47: =IF('Enviromental Scan and Evaluatio'!U37="Yes",$C$10,0) -> 0 | I47: =IF('Enviromental Scan and Evaluatio'!V37="Yes",$C$11,0) -> 0 | J47: =IF('Enviromental Scan and Evaluatio'!W37="Yes",$C$11,0) -> 0 | K47: =SUM(B47:I47) -> 0

Sheet Change Log
A1: Version | B1: Date | C1: Author(s) | D1: Description
A2: 1 | B2: 46086 | C2: Eric Heflin, Erin Roche | D2: First version sent to AP and CDC for review
A3: 2 | B3: 46096 | C3: Eric Heflin | D3: Internal edits, added more focal documents
A4: 3 | B4: 46113 | C4: Erin Roch | D4: Internal edits, added more focal documents
A5: 4 | B5: 46122 | C5: Eric Heflin, Erin Roche | D5: Updated to SCF 2026.1, final deliverable, provided to the CDC and the AP in fulfillment of the environmental survey deliverable
A6: 5 | B6: 46219 | C6: Eric Heflin, Erin Roche, Tesha Lucas | D6: Updated to include the background tab
A7: 6 | B7: 46251 | C7: Tesha Lucas, Eric Heflin | D7: Updated to reflect copyediting guidance
A8: 7 | B8: 46265 | C8: Franchesca Benjamin | D8: Updated to reflect AIRA graphic design
